BEGIN:VCALENDAR
VERSION:2.0
PRODID:-//wp-events-plugin.com//7.2.3.1//EN
TZID:Europe/Paris
X-WR-TIMEZONE:Europe/Paris
BEGIN:VEVENT
UID:63@musicalia.org
DTSTART;TZID=Europe/Paris:20231209T140000
DTEND;TZID=Europe/Paris:20231209T160000
DTSTAMP:20231019T140512Z
URL:https://www.musicalia.org/events/auditions-de-noel/
SUMMARY:Auditions de Noël
DESCRIPTION:
CATEGORIES:Gala / audition
LOCATION:Salle de spectacle\, Allée de la Mairie\, La-Tour-de-Salvagny\, 6
 9890\, France
X-APPLE-STRUCTURED-LOCATION;VALUE=URI;X-ADDRESS=Allée de la Mairie\, La-To
 ur-de-Salvagny\, 69890\, France;X-APPLE-RADIUS=100;X-TITLE=Salle de specta
 cle:geo:0,0
END:VEVENT
BEGIN:VTIMEZONE
TZID:Europe/Paris
X-LIC-LOCATION:Europe/Paris
BEGIN:STANDARD
DTSTART:20231029T020000
TZOFFSETFROM:+0200
TZOFFSETTO:+0100
TZNAME:CET
END:STANDARD
END:VTIMEZONE
END:VCALENDAR