BEGIN:VCALENDAR
VERSION:2.0
PRODID:-//wp-events-plugin.com//7.2.3.1//EN
TZID:Europe/Paris
X-WR-TIMEZONE:Europe/Paris
BEGIN:VEVENT
UID:165@musicalia.org
DTSTART;TZID=Europe/Paris:20260228T111500
DTEND;TZID=Europe/Paris:20260228T123000
DTSTAMP:20251027T183109Z
URL:https://www.musicalia.org/events/histoire-en-musique-pour-petites-orei
 lles/
SUMMARY:Histoire en musique pour petites oreilles
DESCRIPTION:
CATEGORIES:Stage / atelier
LOCATION:Médiathèque\, 59 chemin de la Liasse\, Dardilly\, 69570\, France
X-APPLE-STRUCTURED-LOCATION;VALUE=URI;X-ADDRESS=59 chemin de la Liasse\, Da
 rdilly\, 69570\, France;X-APPLE-RADIUS=100;X-TITLE=Médiathèque:geo:0,0
END:VEVENT
BEGIN:VTIMEZONE
TZID:Europe/Paris
X-LIC-LOCATION:Europe/Paris
BEGIN:STANDARD
DTSTART:20251026T020000
TZOFFSETFROM:+0200
TZOFFSETTO:+0100
TZNAME:CET
END:STANDARD
END:VTIMEZONE
END:VCALENDAR